BEGIN:VCALENDAR
VERSION:2.0
PRODID:-//Kampfires Vermont - ECPv6.15.20//NONSGML v1.0//EN
CALSCALE:GREGORIAN
METHOD:PUBLISH
X-WR-CALNAME:Kampfires Vermont
X-ORIGINAL-URL:https://www.kampfires.com
X-WR-CALDESC:Events for Kampfires Vermont
REFRESH-INTERVAL;VALUE=DURATION:PT1H
X-Robots-Tag:noindex
X-PUBLISHED-TTL:PT1H
BEGIN:VTIMEZONE
TZID:UTC
BEGIN:STANDARD
TZOFFSETFROM:+0000
TZOFFSETTO:+0000
TZNAME:UTC
DTSTART:20160101T000000
END:STANDARD
END:VTIMEZONE
BEGIN:VTIMEZONE
TZID:Asia/Karachi
BEGIN:STANDARD
TZOFFSETFROM:+0500
TZOFFSETTO:+0500
TZNAME:PKT
DTSTART:20150101T000000
END:STANDARD
END:VTIMEZONE
BEGIN:VEVENT
DTSTART;TZID=UTC:20170624T080000
DTEND;TZID=UTC:20170625T170000
DTSTAMP:20260422T104610
CREATED:20170620T195028Z
LAST-MODIFIED:20170620T195028Z
UID:1113-1498291200-1498410000@www.kampfires.com
SUMMARY:TOUGH MUDDER NEW ENGLAND AT MT SNOW
DESCRIPTION:Same Awesome Venue\, New Course\nOne of North America’s favorite destinations\, Tough Mudder New England Presented by Merrell\, built on and around Mount Snow’s iconic Green Mountains\, is more than just an event – it’s a tradition. Featuring intense elevation changes and scenic trails that meander through some of Vermont’s most beautiful woodlands\, it won’t take long to realize why we keep coming back year after year. \n10 miles\, 20 Obstacles\nReady to leave the ordinary behind and make some fresh muddy memories at Tough Mudder New England? You’ll do all that and more when you tackle classic Tough Mudder mud run obstacles and brand new 2017 upgrades. Ordinary won’t know what hit it.Looking for a ride from Boston? View Skedaddle ROUTES and don’t forget to book your ride back home too! \nTougher Mudder takes our signature Tough Mudder course and adds a competitive\, timed twist. This first start wave of Saturday of event weekend allows Mudders to push themselves to a new level on the classic course\, while still maintaining our core values of teamwork and camaraderie.  \nWhat You Get:\nAccess to the first wave of the day\nOfficial Course Time\nEligibilty to win prize money\nTougher Mudder Finisher Tee\nTougher Mudder Headband\nTougher Mudder tickets are available for Saturday on a Tough Mudder weekend. Purchase a Tough Mudder participant ticket and a Tougher Mudder Add-On ticket. Ticket sales stop at 11:59 PM the Thursday before event weekend and are not available on site. \nAlready registered for a Tough Mudder event? Buy a $20 add-on to your already purchased Tough Mudder ticket to upgrade to this competitive start wave.
URL:https://www.kampfires.com/event/tough-mudder-new-england-at-mt-snow/
LOCATION:Mount Snow\, 39 MOUNT SNOW ROAD\, WEST DOVER\, 05356
CATEGORIES:Athletic Event
ATTACH;FMTTYPE=image/jpeg:https://www.kampfires.com/wp-content/uploads/2017/06/toughmudder.jpe
END:VEVENT
BEGIN:VEVENT
DTSTART;TZID=UTC:20170619T080000
DTEND;TZID=UTC:20170619T170000
DTSTAMP:20260422T104610
CREATED:20170620T194031Z
LAST-MODIFIED:20170620T194031Z
UID:1116-1497859200-1497891600@www.kampfires.com
SUMMARY:YELLOW BARN MUSIC FESTIVAL PUTNEY
DESCRIPTION:CELEBRATING THE INFINITE RICHES OF\nCHAMBER MUSIC FOR 48 YEARS \nYellow Barn: July 7-August 5\, 2017\nJörg Widmann\, Composer in Residence: July 24-30\, 2017\nYoung Artists Program: June 14-July 1\, 2017 \nDownload a list of concert dates and ticket order form \nListen to performances from last summer the Big Barn \n“Concerts like those at Yellow Barn shouldn’t really exist. And yet they do.”—The Boston Globe \nAll Yellow Barn venues are handicap accessible. \nFriday\, June 23\, 2017 \nYOUNG ARTISTS PROGRAM: FREE COMMUNITY CONCERT \n8:00pm | The Big Barn\, Putney\, VT\nBeethoven\, Mozart\, Kagel\, Bartök\, Haydn\, Ravel\, and six premiere performances\nThursday\, June 29\, 2017 \nYOUNG ARTISTS PROGRAM CONCERT \n8:00pm | The Big Barn\, Putney\, VT\nFriday\, June 30\, 2017 \nYOUNG ARTISTS PROGRAM CONCERT \n8:00pm | The Big Barn\, Putney\, VT\nFriday\, July 7\, 2017 \nOPENING NIGHT CONCERT \n8:00pm | The Big Barn\, Putney\, VT\nWorks by Jónsdóttir\, Mendelssohn\, Debussy\, Bartók\, Janáček\, and Shaw\nSaturday\, July 8\, 2017 \nMASTERCLASS: GILBERT KALISH\, PIANO \n10:30am | The Big Barn\, Putney\, VT\nPRE-CONCERT DISCUSSION \n7:00pm | The Putney Public Library\, Putney\, VT\nYELLOW BARN CONCERT \n8:00pm | The Big Barn\, Putney\, VT\nWorks by Tenney\, Mendelssohn\, Mozart\, Wolf\, and Bach\nThursday\, July 13\, 2017 \nYELLOW BARN CONCERT \n8:00pm | The Big Barn\, Putney\, VT\nWorks by Haydn\, Reger\, Furrer\, Schnittke\, and Brahms\nFriday\, July 14\, 2017 \nYELLOW BARN CONCERT \n8:00pm | The Big Barn\, Putney\, VT\nWorks by Crumb\, Beethoven\, Mozart\, Korngold\, and Dennehy\nSaturday\, July 15\, 2017 \nMASTERCLASS: LAURENCE LESSER\, CELLO \n10:30am | The Big Barn\, Putney\, VT\nLUNCH BEFORE OPEN HOUSE \n12:30pm | The Greenwood School\, Putney\, VT\nPRE-CONCERT DISCUSSION \n7:00pm | The Putney Public Library\, Putney\, VT\nYELLOW BARN CONCERT \n8:00pm | The Big Barn\, Putney\, VT\nWorks by Schubert\, Pesson\, Schumann\, and Donatoni\nThursday\, July 20\, 2017 \nYELLOW BARN CONCERT \n8:00pm | The Big Barn\, Putney\, VT\nWorks by Caplet\, Ives\, Berio\, and Mozart\nFriday\, July 21\, 2017 \nYELLOW BARN CONCERT \n8:00pm | The Big Barn\, Putney\, VT\nWorks by Nathan\, Globokar\, Bloch\, Fauré\, and Montague\nSaturday\, July 22\, 2017 \nMASTERCLASS: DONALD WEILERSTEIN\, VIOLIN \n10:30am | The Big Barn\, Putney\, VT\nPRE-CONCERT DISCUSSION \n7:00pm | The Putney Public Library\, Putney\, VT\nYELLOW BARN CONCERT \n8:00pm | The Big Barn\, Putney\, VT\nWorks by Medtner\, Hurel\, Ravel\, Beethoven\, and Bach\nTuesday\, July 25\, 2017 \nYELLOW BARN CONCERT \n8:00pm | The Big Barn\, Putney\, VT\nWorks by Jalbert\, Widmann\, Yun\, and Beethoven\nWednesday\, July 26\, 2017 \nCOMPOSER PORTRAIT: JÖRG WIDMANN \n8:00pm | The Big Barn\, Putney\, VT\nWorks by Yellow Barn’s 2017 Composer in Residence\nAn evening of music and conversation\nThursday\, July 27\, 2017 \nYELLOW BARN CONCERT \n8:00pm | The Big Barn\, Putney\, VT\nWorks by Widmann\, Stockhausen\, Haydn\, and Brahms\nFriday\, July 28\, 2017 \nYELLOW BARN CONCERT \n8:00pm | The Big Barn\, Putney\, VT\nWorks by Beethoven\, Ligeti\, Zemlinsky\, and Widmann\nSaturday\, July 29\, 2017 \nPRE-CONCERT DISCUSSION \n7:00pm | The Putney Public Library\, Putney\, VT\nYELLOW BARN CONCERT \n8:00pm | The Big Barn\, Putney\, VT\nWorks by Widmann\, Mendelssohn\, Schumann\, and Schubert\nMonday July 31\, 2017 \nMASTERCLASS: KIM KASHKASHIAN\, VIOLA \n8:00pm | The Big Barn\, Putney\, VT\nTuesday\, August 1\, 2017 \nYELLOW BARN CONCERT \n8:00pm | The Big Barn\, Putney\, VT\nWorks by Scelsi\, Brahms\, Purcell\, and Britten\nWednesday\, August 2\, 2017 \nYELLOW BARN CONCERT \n8:00pm | The Big Barn\, Putney\, VT\nWorks by Debussy\, Adès\, Hétu\, Dean\, and Ravel\nThursday\, August 3\, 2017 \nYELLOW BARN CONCERT \n8:00pm | The Big Barn\, Putney\, VT\nWorks by Meltzer\, Haas\, Hosokawa\, and Smetana\nFriday\, August 4\, 2017 \nYELLOW BARN CONCERT \n8:00pm | The Big Barn\, Putney\, VT\nWorks by Neuwirth\, Gubaidulina\, Albert\, and Mendelssohn\nSaturday\, August 5\, 2017 \nMATINEE CONCERT \n12:30pm | The Big Barn\, Putney\, VT\nWorks by Coxe\, Berg\, Druckman\, and Ravel\nPRE-CONCERT DISCUSSION \n7:00pm | The Putney Public Library\, Putney\, VT\nSEASON FINALE CONCERT \n8:00pm | The Big Barn\, Putney\, VT\nWorks by Natra\, Fauré\, Mozart\, Barry\, and Raskatov
URL:https://www.kampfires.com/event/yellow-barn-music-festival-putney/
CATEGORIES:Live Music
ATTACH;FMTTYPE=image/jpeg:https://www.kampfires.com/wp-content/uploads/2017/06/yellowbarn.jpg
ORGANIZER;CN="Unnamed Organizer":MAILTO: info@yellowbarn.org
END:VEVENT
BEGIN:VEVENT
DTSTART;TZID=Asia/Karachi:20170618T080000
DTEND;TZID=Asia/Karachi:20170618T160000
DTSTAMP:20260422T104610
CREATED:20160529T195052Z
LAST-MODIFIED:20170617T011807Z
UID:896-1497772800-1497801600@www.kampfires.com
SUMMARY:NADAC Sanctioned Dog Agility Trial
DESCRIPTION:June 17 – 18\, 2017 \nDog Agility Trials! \nCome watch some talented dogs and their handlers run an agility course in the Kampfires event fields. \n* outdoors on grass * \nJudge Jim Nally from Maplewood\, MN \nClasses Offered Saturday \nChances\, Regular 1+2\, Jumpers\, Touch N Go\, Weavers\, X-Hoopers 1+2 \nClasses Offered Sunday \nChances\, Regular 1+2\, Jumpers\, Touch N Go\, Tunnelers\, Barrelers 1+2 \nLevels Offered Elite\, Open\, Novice\, Intro \nEntry Limit: 450 runs per day (350 runs with jumps per judge per day) \nSee more details here http://www.northeastagility.com/premiums/2017June_DummerstonVT.pdf
URL:https://www.kampfires.com/event/nadac-sanctioned-dog-agility-trial-3/
LOCATION:Kampfires Recreation Field\, 792 US Rt 5\, Dummerston\, VT\, 05301\, United States
CATEGORIES:Dog Agility
ATTACH;FMTTYPE=image/jpeg:https://www.kampfires.com/wp-content/uploads/2016/05/dsc3157.jpg
ORGANIZER;CN="Lynn Smitley":MAILTO:lsmitley@comcast.net
END:VEVENT
BEGIN:VEVENT
DTSTART;TZID=Asia/Karachi:20170617T080000
DTEND;TZID=Asia/Karachi:20170617T160000
DTSTAMP:20260422T104610
CREATED:20160529T195052Z
LAST-MODIFIED:20170617T011843Z
UID:1092-1497686400-1497715200@www.kampfires.com
SUMMARY:NADAC Sanctioned Dog Agility Trial
DESCRIPTION:June 17 – 18\, 2017 \nDog Agility Trials! \nCome watch some talented dogs and their handlers run an agility course in the Kampfires event fields. \n* outdoors on grass * \nJudge Jim Nally from Maplewood\, MN \nClasses Offered Saturday \nChances\, Regular 1+2\, Jumpers\, Touch N Go\, Weavers\, X-Hoopers 1+2 \nClasses Offered Sunday \nChances\, Regular 1+2\, Jumpers\, Touch N Go\, Tunnelers\, Barrelers 1+2 \nLevels Offered Elite\, Open\, Novice\, Intro \nEntry Limit: 450 runs per day (350 runs with jumps per judge per day) \nSee more details here http://www.northeastagility.com/premiums/2017June_DummerstonVT.pdf
URL:https://www.kampfires.com/event/nadac-sanctioned-dog-agility-trial-3-2/
LOCATION:Kampfires Recreation Field\, 792 US Rt 5\, Dummerston\, VT\, 05301\, United States
CATEGORIES:Dog Agility
ATTACH;FMTTYPE=image/jpeg:https://www.kampfires.com/wp-content/uploads/2016/05/dsc3157.jpg
ORGANIZER;CN="Lynn Smitley":MAILTO:lsmitley@comcast.net
END:VEVENT
BEGIN:VEVENT
DTSTART;TZID=UTC:20170610T110000
DTEND;TZID=UTC:20170610T130000
DTSTAMP:20260422T104610
CREATED:20170510T233819Z
LAST-MODIFIED:20170510T234838Z
UID:1057-1497092400-1497099600@www.kampfires.com
SUMMARY:Family Fun Day\, Open House & Cannonball Contest
DESCRIPTION:Join your favorite hosts from WKVT for the first annual KAMPFIRES FAMILY FUN DAY & OPEN HOUSE – June 10th at Kampfires. \nTour the new campground\, play a game of miniature golf on the updated course for just $2.99\, enjoy an ice cream with great specials and treats and of course\, check out the new pool and enter our first annual Cannonball contest\, with the iconic panel of judges from WKVT and fish to MC the event!  \n11:00-1:00 \nPlus a new Bribe a judge to Benefit Girls on the Run. \nKeep an eye for details or check out our facebook page!
URL:https://www.kampfires.com/event/family-fun-day-open-house-cannonball-contest/
LOCATION:Kampfires Campground\, Inn and Entertainment\, 792 US RTE 5\, DUMMERSTON\, VT\, 05301\, United States
CATEGORIES:Campground Event,Cannonballs Event
ATTACH;FMTTYPE=image/jpeg:https://www.kampfires.com/wp-content/uploads/2016/03/Pool.jpg
END:VEVENT
BEGIN:VEVENT
DTSTART;VALUE=DATE:20170520
DTEND;VALUE=DATE:20170521
DTSTAMP:20260422T104610
CREATED:20170121T213821Z
LAST-MODIFIED:20170122T003412Z
UID:989-1495238400-1495324799@www.kampfires.com
SUMMARY:Swimming Pool Opens for 2017 Season
DESCRIPTION:Join Cannonballs Swim Club now and enjoy a full year of swimming for one low price.
URL:https://www.kampfires.com/event/swimming-pool-opens-for-2017-season/
LOCATION:Cannonballs Swim Club at Kampfires\, 792 US RTE 5\, DUMMERSTON\, VT\, 05301\, United States
CATEGORIES:Cannonballs Event
ATTACH;FMTTYPE=image/jpeg:https://www.kampfires.com/wp-content/uploads/2016/03/IMG_1799-1-scaled.jpg
END:VEVENT
BEGIN:VEVENT
DTSTART;TZID=UTC:20170515T120000
DTEND;TZID=UTC:20170515T190000
DTSTAMP:20260422T104610
CREATED:20170505T223407Z
LAST-MODIFIED:20170505T223407Z
UID:1053-1494849600-1494874800@www.kampfires.com
SUMMARY:Scoops Ice Cream Stand Opens for the Season
DESCRIPTION:Over 30 flavors of Hershey’s Ice Cream\, Soft Serve\, Sundaes and more!  Opening for the season on the 15th of May.  Open everyday from Noon until Dark.
URL:https://www.kampfires.com/event/scoops-ice-cream-stand-opens-for-the-season/
LOCATION:Scoops Ice Cream at Kampfires\, 792 US RTE 5\, DUMMERSTON\, VT\, 05301\, United States
CATEGORIES:Campground Event,Food and Drink
END:VEVENT
BEGIN:VEVENT
DTSTART;VALUE=DATE:20170415
DTEND;VALUE=DATE:20170416
DTSTAMP:20260422T104610
CREATED:20170121T213412Z
LAST-MODIFIED:20170122T003526Z
UID:984-1492214400-1492300799@www.kampfires.com
SUMMARY:Campground Opens for 2017 Season
DESCRIPTION:It’s time to plan your 2017 vacation to Vermont!
URL:https://www.kampfires.com/event/campground-opens-for-2017-season/
LOCATION:Kampfires Campground\, Inn and Entertainment\, 792 US RTE 5\, DUMMERSTON\, VT\, 05301\, United States
CATEGORIES:Campground Event
ATTACH;FMTTYPE=image/jpeg:https://www.kampfires.com/wp-content/uploads/2017/01/13614951_1205717702786050_313149964686808931_n-1.jpg
ORGANIZER;CN="Tim Brady":MAILTO:relax@kampfires.com
END:VEVENT
BEGIN:VEVENT
DTSTART;TZID=Asia/Karachi:20160812T080000
DTEND;TZID=Asia/Karachi:20160814T170000
DTSTAMP:20260422T104610
CREATED:20160529T195052Z
LAST-MODIFIED:20160529T195533Z
UID:890-1470988800-1471194000@www.kampfires.com
SUMMARY:NADAC Sanctioned Dog Agility Trial
DESCRIPTION:
URL:https://www.kampfires.com/event/nadac-sanctioned-dog-agility-trial-2/
LOCATION:Kampfires Recreation Field\, 792 US Rt 5\, Dummerston\, VT\, 05301\, United States
CATEGORIES:Dog Agility
ATTACH;FMTTYPE=image/jpeg:https://www.kampfires.com/wp-content/uploads/2016/05/dsc3157.jpg
ORGANIZER;CN="Lynn Smitley":MAILTO:lsmitley@comcast.net
END:VEVENT
BEGIN:VEVENT
DTSTART;TZID=Asia/Karachi:20160618T080000
DTEND;TZID=Asia/Karachi:20160619T170000
DTSTAMP:20260422T104610
CREATED:20160529T195052Z
LAST-MODIFIED:20160529T195707Z
UID:895-1466236800-1466355600@www.kampfires.com
SUMMARY:NADAC Sanctioned Dog Agility Trial
DESCRIPTION:***THIS TRIAL WILL MARK OUR 10TH ANNIVERSARY OF HOSTING TRIALS IN THE NORTHEAST!*** \nEarly Entry Deadline (5% Discount): Monday May 16\nPre-Entry Deadline: Wednesday June 8 \nSaturday: Tunnelers\, Weavers\, Regular 1+2\, Chances\, X-Hoopers 1+2\, Jumpers\nSunday: Jumpers\, Barrelers 1+2\, Chances\, Regular 1+2\, Touch N Go\, Tunnelers
URL:https://www.kampfires.com/event/nadac-sanctioned-dog-agility-trial/
LOCATION:Kampfires Recreation Field\, 792 US Rt 5\, Dummerston\, VT\, 05301\, United States
CATEGORIES:Dog Agility
ATTACH;FMTTYPE=image/jpeg:https://www.kampfires.com/wp-content/uploads/2016/05/dsc3157.jpg
ORGANIZER;CN="Lynn Smitley":MAILTO:lsmitley@comcast.net
END:VEVENT
END:VCALENDAR