BEGIN:VCALENDAR
VERSION:2.0
PRODID:-//Kampfires Vermont - ECPv6.15.20//NONSGML v1.0//EN
CALSCALE:GREGORIAN
METHOD:PUBLISH
X-WR-CALNAME:Kampfires Vermont
X-ORIGINAL-URL:https://www.kampfires.com
X-WR-CALDESC:Events for Kampfires Vermont
REFRESH-INTERVAL;VALUE=DURATION:PT1H
X-Robots-Tag:noindex
X-PUBLISHED-TTL:PT1H
BEGIN:VTIMEZONE
TZID:America/New_York
BEGIN:DAYLIGHT
TZOFFSETFROM:-0500
TZOFFSETTO:-0400
TZNAME:EDT
DTSTART:20250309T070000
END:DAYLIGHT
BEGIN:STANDARD
TZOFFSETFROM:-0400
TZOFFSETTO:-0500
TZNAME:EST
DTSTART:20251102T060000
END:STANDARD
BEGIN:DAYLIGHT
TZOFFSETFROM:-0500
TZOFFSETTO:-0400
TZNAME:EDT
DTSTART:20260308T070000
END:DAYLIGHT
BEGIN:STANDARD
TZOFFSETFROM:-0400
TZOFFSETTO:-0500
TZNAME:EST
DTSTART:20261101T060000
END:STANDARD
BEGIN:DAYLIGHT
TZOFFSETFROM:-0500
TZOFFSETTO:-0400
TZNAME:EDT
DTSTART:20270314T070000
END:DAYLIGHT
BEGIN:STANDARD
TZOFFSETFROM:-0400
TZOFFSETTO:-0500
TZNAME:EST
DTSTART:20271107T060000
END:STANDARD
END:VTIMEZONE
BEGIN:VEVENT
DTSTART;TZID=America/New_York:20260703T180000
DTEND;TZID=America/New_York:20260703T200000
DTSTAMP:20260421T115616
CREATED:20260331T174427Z
LAST-MODIFIED:20260331T175112Z
UID:1966-1783101600-1783108800@www.kampfires.com
SUMMARY:Live music featuring VT Easy Street! Free and open to the public!
DESCRIPTION:Join us Friday\, July 3 from 6 – 8pm and every Friday night this summer for live music under the stars. This week featuring VT Easy Street! Bring the family for this free and open to the public event! Of course we’ll have ice cream and treats and beverages and a food truck too. A great way to spend a summer evening at Kampfires!
URL:https://www.kampfires.com/event/live-music-featuring-vt-easy-street-free-and-open-to-the-public/
CATEGORIES:Campground Event,Live Music
ATTACH;FMTTYPE=image/png:https://www.kampfires.com/wp-content/uploads/2026/03/summer-music-2026.png
END:VEVENT
END:VCALENDAR