BEGIN:VCALENDAR
VERSION:2.0
PRODID:-//Kampfires Vermont - ECPv6.15.20//NONSGML v1.0//EN
CALSCALE:GREGORIAN
METHOD:PUBLISH
X-ORIGINAL-URL:https://www.kampfires.com
X-WR-CALDESC:Events for Kampfires Vermont
REFRESH-INTERVAL;VALUE=DURATION:PT1H
X-Robots-Tag:noindex
X-PUBLISHED-TTL:PT1H
BEGIN:VTIMEZONE
TZID:America/New_York
BEGIN:DAYLIGHT
TZOFFSETFROM:-0500
TZOFFSETTO:-0400
TZNAME:EDT
DTSTART:20250309T070000
END:DAYLIGHT
BEGIN:STANDARD
TZOFFSETFROM:-0400
TZOFFSETTO:-0500
TZNAME:EST
DTSTART:20251102T060000
END:STANDARD
BEGIN:DAYLIGHT
TZOFFSETFROM:-0500
TZOFFSETTO:-0400
TZNAME:EDT
DTSTART:20260308T070000
END:DAYLIGHT
BEGIN:STANDARD
TZOFFSETFROM:-0400
TZOFFSETTO:-0500
TZNAME:EST
DTSTART:20261101T060000
END:STANDARD
BEGIN:DAYLIGHT
TZOFFSETFROM:-0500
TZOFFSETTO:-0400
TZNAME:EDT
DTSTART:20270314T070000
END:DAYLIGHT
BEGIN:STANDARD
TZOFFSETFROM:-0400
TZOFFSETTO:-0500
TZNAME:EST
DTSTART:20271107T060000
END:STANDARD
END:VTIMEZONE
BEGIN:VEVENT
DTSTART;TZID=America/New_York:20260703T180000
DTEND;TZID=America/New_York:20260703T200000
DTSTAMP:20260421T102845
CREATED:20260331T174427Z
LAST-MODIFIED:20260331T175112Z
UID:1966-1783101600-1783108800@www.kampfires.com
SUMMARY:Live music featuring VT Easy Street! Free and open to the public!
DESCRIPTION:Join us Friday\, July 3 from 6 – 8pm and every Friday night this summer for live music under the stars. This week featuring VT Easy Street! Bring the family for this free and open to the public event! Of course we’ll have ice cream and treats and beverages and a food truck too. A great way to spend a summer evening at Kampfires!
URL:https://www.kampfires.com/event/live-music-featuring-vt-easy-street-free-and-open-to-the-public/
CATEGORIES:Campground Event,Live Music
ATTACH;FMTTYPE=image/png:https://www.kampfires.com/wp-content/uploads/2026/03/summer-music-2026.png
END:VEVENT
BEGIN:VEVENT
DTSTART;TZID=America/New_York:20260710T180000
DTEND;TZID=America/New_York:20260710T200000
DTSTAMP:20260421T102845
CREATED:20260331T174428Z
LAST-MODIFIED:20260331T175057Z
UID:1967-1783706400-1783713600@www.kampfires.com
SUMMARY:Live music featuring Steve Carmichael! Free and open to the public!
DESCRIPTION:Join us Friday\, July 10 from 6 – 8pm and every Friday night this summer for live music under the stars. This week featuring Steve Carmichael! Bring the family for this free and open to the public event! Of course we’ll have ice cream and treats and beverages and a food truck too. A great way to spend a summer evening at Kampfires!
URL:https://www.kampfires.com/event/live-music-featuring-steve-carmichael-free-and-open-to-the-public-2/
CATEGORIES:Campground Event,Live Music
ATTACH;FMTTYPE=image/png:https://www.kampfires.com/wp-content/uploads/2026/03/summer-music-2026.png
END:VEVENT
BEGIN:VEVENT
DTSTART;TZID=America/New_York:20260717T180000
DTEND;TZID=America/New_York:20260717T200000
DTSTAMP:20260421T102845
CREATED:20260331T174428Z
LAST-MODIFIED:20260331T175043Z
UID:1968-1784311200-1784318400@www.kampfires.com
SUMMARY:Live music featuring Ernesto Sanchez! Free and open to the public!
DESCRIPTION:Join us Friday\, July 17 from 6 – 8pm and every Friday night this summer for live music under the stars. This week featuring Ernesto Sanchez! Bring the family for this free and open to the public event! Of course we’ll have ice cream and treats and beverages and a food truck too. A great way to spend a summer evening at Kampfires!
URL:https://www.kampfires.com/event/live-music-featuring-ernesto-sanchez-free-and-open-to-the-public-2/
CATEGORIES:Campground Event,Live Music
ATTACH;FMTTYPE=image/png:https://www.kampfires.com/wp-content/uploads/2026/03/summer-music-2026.png
END:VEVENT
BEGIN:VEVENT
DTSTART;TZID=America/New_York:20260724T180000
DTEND;TZID=America/New_York:20260724T200000
DTSTAMP:20260421T102845
CREATED:20260331T174428Z
LAST-MODIFIED:20260331T175031Z
UID:1969-1784916000-1784923200@www.kampfires.com
SUMMARY:Live music featuring Grayson Ty! Free and open to the public!
DESCRIPTION:Join us Friday\, July 24 from 6 – 8pm and every Friday night this summer for live music under the stars. This week featuring Grayson Ty! Bring the family for this free and open to the public event! Of course we’ll have ice cream and treats and beverages and a food truck too. A great way to spend a summer evening at Kampfires!
URL:https://www.kampfires.com/event/live-music-featuring-grayson-ty-free-and-open-to-the-public/
CATEGORIES:Campground Event,Live Music
ATTACH;FMTTYPE=image/png:https://www.kampfires.com/wp-content/uploads/2026/03/summer-music-2026.png
END:VEVENT
BEGIN:VEVENT
DTSTART;TZID=America/New_York:20260731T180000
DTEND;TZID=America/New_York:20260731T200000
DTSTAMP:20260421T102845
CREATED:20260331T174527Z
LAST-MODIFIED:20260331T175018Z
UID:1970-1785520800-1785528000@www.kampfires.com
SUMMARY:Live music featuring Midnight Floyd! Free and open to the public!
DESCRIPTION:Join us Friday\, July 31 from 6 – 8pm and every Friday night this summer for live music under the stars. This week featuring Midnight Floyd! Bring the family for this free and open to the public event! Of course we’ll have ice cream and treats and beverages and a food truck too. A great way to spend a summer evening at Kampfires!
URL:https://www.kampfires.com/event/live-music-featuring-midnight-floyd-free-and-open-to-the-public/
CATEGORIES:Campground Event,Live Music
ATTACH;FMTTYPE=image/png:https://www.kampfires.com/wp-content/uploads/2026/03/summer-music-2026.png
END:VEVENT
END:VCALENDAR